BEGIN:VCALENDAR
PRODID:-//nuDatenautomaten//framework iCal4j //DE
VERSION:2.0
CALSCALE:GREGORIAN
BEGIN:VTIMEZONE
TZID:Europe/Berlin
LAST-MODIFIED:20260306T231828Z
TZURL:https://www.tzurl.org/zoneinfo/Europe/Berlin
X-LIC-LOCATION:Europe/Berlin
X-PROLEPTIC-TZNAME:LMT
BEGIN:STANDARD
TZNAME:CET
TZOFFSETFROM:+005328
TZOFFSETTO:+0100
DTSTART:18930401T000000
END:STANDARD
BEGIN:DAYLIGHT
TZNAME:CEST
TZOFFSETFROM:+0100
TZOFFSETTO:+0200
DTSTART:19160430T230000
RDATE:19400401T020000
RDATE:19430329T020000
RDATE:19460414T020000
RDATE:19470406T030000
RDATE:19480418T020000
RDATE:19490410T020000
RDATE:19800406T020000
END:DAYLIGHT
BEGIN:STANDARD
TZNAME:CET
TZOFFSETFROM:+0200
TZOFFSETTO:+0100
DTSTART:19161001T010000
RDATE:19421102T030000
RDATE:19431004T030000
RDATE:19441002T030000
RDATE:19451118T030000
RDATE:19461007T030000
END:STANDARD
BEGIN:DAYLIGHT
TZNAME:CEST
TZOFFSETFROM:+0100
TZOFFSETTO:+0200
DTSTART:19170416T020000
RRULE:FREQ=YEARLY;UNTIL=19180415T010000Z;BYMONTH=4;BYDAY=3MO
END:DAYLIGHT
BEGIN:STANDARD
TZNAME:CET
TZOFFSETFROM:+0200
TZOFFSETTO:+0100
DTSTART:19170917T030000
RRULE:FREQ=YEARLY;UNTIL=19180916T010000Z;BYMONTH=9;BYDAY=3MO
END:STANDARD
BEGIN:DAYLIGHT
TZNAME:CEST
TZOFFSETFROM:+0100
TZOFFSETTO:+0200
DTSTART:19440403T020000
RRULE:FREQ=YEARLY;UNTIL=19450402T010000Z;BYMONTH=4;BYDAY=1MO
END:DAYLIGHT
BEGIN:DAYLIGHT
TZNAME:CEMT
TZOFFSETFROM:+0200
TZOFFSETTO:+0300
DTSTART:19450524T020000
RDATE:19470511T030000
END:DAYLIGHT
BEGIN:DAYLIGHT
TZNAME:CEST
TZOFFSETFROM:+0300
TZOFFSETTO:+0200
DTSTART:19450924T030000
RDATE:19470629T030000
END:DAYLIGHT
BEGIN:STANDARD
TZNAME:CET
TZOFFSETFROM:+0100
TZOFFSETTO:+0100
DTSTART:19460101T000000
RDATE:19800101T000000
END:STANDARD
BEGIN:STANDARD
TZNAME:CET
TZOFFSETFROM:+0200
TZOFFSETTO:+0100
DTSTART:19471005T030000
RRULE:FREQ=YEARLY;UNTIL=19491002T010000Z;BYMONTH=10;BYDAY=1SU
END:STANDARD
BEGIN:STANDARD
TZNAME:CET
TZOFFSETFROM:+0200
TZOFFSETTO:+0100
DTSTART:19800928T030000
RRULE:FREQ=YEARLY;UNTIL=19950924T010000Z;BYMONTH=9;BYDAY=-1SU
END:STANDARD
BEGIN:DAYLIGHT
TZNAME:CEST
TZOFFSETFROM:+0100
TZOFFSETTO:+0200
DTSTART:19810329T020000
RRULE:FREQ=YEARLY;BYMONTH=3;BYDAY=-1SU
END:DAYLIGHT
BEGIN:STANDARD
TZNAME:CET
TZOFFSETFROM:+0200
TZOFFSETTO:+0100
DTSTART:19961027T030000
RRULE:FREQ=YEARLY;BYMONTH=10;BYDAY=-1SU
END:STANDARD
END:VTIMEZONE
BEGIN:VEVENT
DTSTAMP:20260425T150922Z
DTSTART;TZID=Europe/Berlin:20241012T161500
DTEND;TZID=Europe/Berlin:20241012T174500
SUMMARY:LLB F Berliner TSC II vs HC Pankow (235017)
UID:8fed66a6-5c08-4bfd-abea-1186d10c6749
STATUS:CONFIRMED
LAST-MODIFIED:20241012T160806Z
DESCRIPTION:Landesliga Frauen B\nBegegnungs-Nr: 235017\nHeim: Berliner TSC II\nGast: HC Pankow\nHalle: Sporthalle Paul-Heyse-Str. (442)\nAdresse: Paul-Heyse-Straße 25\, 10407 Berlin\n
LOCATION:Sporthalle Paul-Heyse-Str. (442): Paul-Heyse-Straße 25\, 10407 Berlin
CATEGORIES:Saison 2024/25
END:VEVENT
BEGIN:VEVENT
DTSTAMP:20260425T150922Z
DTSTART;TZID=Europe/Berlin:20250503T150000
DTEND;TZID=Europe/Berlin:20250503T163000
SUMMARY:LLB F Berliner TSC II vs BTV 1850 II (235083)
UID:932dad7e-ea17-4e02-9e38-0faf8564c99f
STATUS:CONFIRMED
LAST-MODIFIED:20250503T154425Z
DESCRIPTION:Landesliga Frauen B\nBegegnungs-Nr: 235083\nHeim: Berliner TSC II\nGast: BTV 1850 II\nHalle: Sporthalle Paul-Heyse-Str. (442)\nAdresse: Paul-Heyse-Straße 25\, 10407 Berlin\n
LOCATION:Sporthalle Paul-Heyse-Str. (442): Paul-Heyse-Straße 25\, 10407 Berlin
CATEGORIES:Saison 2024/25
END:VEVENT
BEGIN:VEVENT
DTSTAMP:20260425T150922Z
DTSTART;TZID=Europe/Berlin:20250309T160000
DTEND;TZID=Europe/Berlin:20250309T173000
SUMMARY:LLB F Berliner TSC II vs TSV Marienfelde (235070)
UID:4405e041-6cc6-431a-b8f2-cb91f9c3bf4f
STATUS:CONFIRMED
LAST-MODIFIED:20250301T183634Z
DESCRIPTION:Landesliga Frauen B\nBegegnungs-Nr: 235070\nHeim: Berliner TSC II\nGast: TSV Marienfelde\nHalle: Sporthalle der Maria-Leo-Grundschule (450)\nAdresse: Conrad-Blenkle-Straße 20 / Eingang Fritz-Riedel-Straße\, 10407 Berlin\n
LOCATION:Sporthalle der Maria-Leo-Grundschule (450): Conrad-Blenkle-Straße 20 / Eingang Fritz-Riedel-Straße\, 10407 Berlin
CATEGORIES:Saison 2024/25
END:VEVENT
BEGIN:VEVENT
DTSTAMP:20260425T150922Z
DTSTART;TZID=Europe/Berlin:20250222T193000
DTEND;TZID=Europe/Berlin:20250222T210000
SUMMARY:LLB F Berliner TSC II vs Füchse Berlin Reindf. II (235058)
UID:060380fc-80a1-41e0-a6ef-8b78935355e9
STATUS:CONFIRMED
LAST-MODIFIED:20250302T141116Z
DESCRIPTION:Landesliga Frauen B\nBegegnungs-Nr: 235058\nHeim: Berliner TSC II\nGast: Füchse Berlin Reindf. II\nHalle: Seelenbinderhalle im Velodrom (446)\nAdresse: Paul-Heyse-Straße 26/ Eing. Tiefgarage\, 10407 Berlin\n
LOCATION:Seelenbinderhalle im Velodrom (446): Paul-Heyse-Straße 26/ Eing. Tiefgarage\, 10407 Berlin
CATEGORIES:Saison 2024/25
END:VEVENT
BEGIN:VEVENT
DTSTAMP:20260425T150922Z
DTSTART;TZID=Europe/Berlin:20250112T153000
DTEND;TZID=Europe/Berlin:20250112T170000
SUMMARY:LLB F Berliner TSC II vs Pfeffersport II (235047)
UID:3227f22d-acc1-4d32-a16a-a26944875ea4
STATUS:CONFIRMED
LAST-MODIFIED:20250112T163127Z
DESCRIPTION:Landesliga Frauen B\nBegegnungs-Nr: 235047\nHeim: Berliner TSC II\nGast: Pfeffersport II\nHalle: Sporthalle Paul-Heyse-Str. (442)\nAdresse: Paul-Heyse-Straße 25\, 10407 Berlin\n
LOCATION:Sporthalle Paul-Heyse-Str. (442): Paul-Heyse-Straße 25\, 10407 Berlin
CATEGORIES:Saison 2024/25
END:VEVENT
BEGIN:VEVENT
DTSTAMP:20260425T150922Z
DTSTART;TZID=Europe/Berlin:20240922T161500
DTEND;TZID=Europe/Berlin:20240922T174500
SUMMARY:LLB F Berliner TSC II vs HSG Neukölln II (235010)
UID:db813b08-14ec-41a6-ba96-468b92f6a167
STATUS:CONFIRMED
LAST-MODIFIED:20240923T101325Z
DESCRIPTION:Landesliga Frauen B\nBegegnungs-Nr: 235010\nHeim: Berliner TSC II\nGast: HSG Neukölln II\nHalle: Sporthalle Paul-Heyse-Str. (442)\nAdresse: Paul-Heyse-Straße 25\, 10407 Berlin\n
LOCATION:Sporthalle Paul-Heyse-Str. (442): Paul-Heyse-Straße 25\, 10407 Berlin
CATEGORIES:Saison 2024/25
END:VEVENT
BEGIN:VEVENT
DTSTAMP:20260425T150922Z
DTSTART;TZID=Europe/Berlin:20241215T171500
DTEND;TZID=Europe/Berlin:20241215T184500
SUMMARY:LLB F Berliner TSC II vs VfV Spandau III (235041)
UID:fd52bb19-1932-44dc-9f7f-b45478dc27cf
STATUS:CONFIRMED
LAST-MODIFIED:20241215T185340Z
DESCRIPTION:Landesliga Frauen B\nBegegnungs-Nr: 235041\nHeim: Berliner TSC II\nGast: VfV Spandau III\nHalle: Sporthalle Paul-Heyse-Str. (442)\nAdresse: Paul-Heyse-Straße 25\, 10407 Berlin\n
LOCATION:Sporthalle Paul-Heyse-Str. (442): Paul-Heyse-Straße 25\, 10407 Berlin
CATEGORIES:Saison 2024/25
END:VEVENT
BEGIN:VEVENT
DTSTAMP:20260425T150922Z
DTSTART;TZID=Europe/Berlin:20241130T160000
DTEND;TZID=Europe/Berlin:20241130T173000
SUMMARY:LLB F Berliner TSC II vs SG AC/Eintracht Berlin II (235031)
UID:7ef32ed2-e592-4b92-8b96-7af786450105
STATUS:CONFIRMED
LAST-MODIFIED:20241130T164751Z
DESCRIPTION:Landesliga Frauen B\nBegegnungs-Nr: 235031\nHeim: Berliner TSC II\nGast: SG AC/Eintracht Berlin II\nHalle: Sporthalle Paul-Heyse-Str. (442)\nAdresse: Paul-Heyse-Straße 25\, 10407 Berlin\n
LOCATION:Sporthalle Paul-Heyse-Str. (442): Paul-Heyse-Straße 25\, 10407 Berlin
CATEGORIES:Saison 2024/25
END:VEVENT
BEGIN:VEVENT
DTSTAMP:20260425T150922Z
DTSTART;TZID=Europe/Berlin:20241116T144500
DTEND;TZID=Europe/Berlin:20241116T161500
SUMMARY:LLB F Berliner TSC II vs SG Rotation P. B. II (235027)
UID:a00e7eac-4c33-4533-8c1d-6b84eafffd14
STATUS:CONFIRMED
LAST-MODIFIED:20241116T154342Z
DESCRIPTION:Landesliga Frauen B\nBegegnungs-Nr: 235027\nHeim: Berliner TSC II\nGast: SG Rotation P. B. II\nHalle: Sporthalle Paul-Heyse-Str. (442)\nAdresse: Paul-Heyse-Straße 25\, 10407 Berlin\n
LOCATION:Sporthalle Paul-Heyse-Str. (442): Paul-Heyse-Straße 25\, 10407 Berlin
CATEGORIES:Saison 2024/25
END:VEVENT
BEGIN:VEVENT
DTSTAMP:20260425T150922Z
DTSTART;TZID=Europe/Berlin:20250517T153000
DTEND;TZID=Europe/Berlin:20250517T170000
SUMMARY:LLB F VfV Spandau III vs Berliner TSC II (235086)
UID:e755b0ff-b8e5-4c0c-8573-98f1a061f6e2
STATUS:CONFIRMED
LAST-MODIFIED:20250517T162046Z
DESCRIPTION:Landesliga Frauen B\nBegegnungs-Nr: 235086\nHeim: VfV Spandau III\nGast: Berliner TSC II\nHalle: Sporthalle Falkenseer Damm (564)\nAdresse: Falkenseer Damm 20\, 13585 Berlin\n
LOCATION:Sporthalle Falkenseer Damm (564): Falkenseer Damm 20\, 13585 Berlin
CATEGORIES:Saison 2024/25
END:VEVENT
BEGIN:VEVENT
DTSTAMP:20260425T150922Z
DTSTART;TZID=Europe/Berlin:20250406T163000
DTEND;TZID=Europe/Berlin:20250406T180000
SUMMARY:LLB F SG AC/Eintracht Berlin II vs Berliner TSC II (235076)
UID:078729e3-2f2a-41ac-8b8d-ecbae2d205c4
STATUS:CONFIRMED
LAST-MODIFIED:20250406T173001Z
DESCRIPTION:Landesliga Frauen B\nBegegnungs-Nr: 235076\nHeim: SG AC/Eintracht Berlin II\nGast: Berliner TSC II\nHalle: Sporthalle Peter-Huchel-Straße (91)\nAdresse: Peter-Huchel-Str. 33\, 12619 Berlin\n
LOCATION:Sporthalle Peter-Huchel-Straße (91): Peter-Huchel-Str. 33\, 12619 Berlin
CATEGORIES:Saison 2024/25
END:VEVENT
BEGIN:VEVENT
DTSTAMP:20260425T150922Z
DTSTART;TZID=Europe/Berlin:20250316T120000
DTEND;TZID=Europe/Berlin:20250316T133000
SUMMARY:LLB F SG Rotation P. B. II vs Berliner TSC II (235072)
UID:6318c08a-69db-4ccf-b01a-40cd4c36d096
STATUS:CONFIRMED
LAST-MODIFIED:20250316T150131Z
DESCRIPTION:Landesliga Frauen B\nBegegnungs-Nr: 235072\nHeim: SG Rotation P. B. II\nGast: Berliner TSC II\nHalle: Max-Schmeling-Halle (B) (447)\nAdresse: Am Falkplatz 1\, 10437 Berlin\n
LOCATION:Max-Schmeling-Halle (B) (447): Am Falkplatz 1\, 10437 Berlin
CATEGORIES:Saison 2024/25
END:VEVENT
BEGIN:VEVENT
DTSTAMP:20260425T150922Z
DTSTART;TZID=Europe/Berlin:20241010T201500
DTEND;TZID=Europe/Berlin:20241010T214500
SUMMARY:LLB F Füchse Berlin Reindf. II vs Berliner TSC II (235013)
UID:26172ca8-e209-4c8d-8f26-e029369e25fc
STATUS:CONFIRMED
LAST-MODIFIED:20241012T092611Z
DESCRIPTION:Landesliga Frauen B\nBegegnungs-Nr: 235013\nHeim: Füchse Berlin Reindf. II\nGast: Berliner TSC II\nHalle: Sporthalle im Füchse Berlin Sportpark (495)\nAdresse: Freiheitsweg 18\, 13407 Berlin\n
LOCATION:Sporthalle im Füchse Berlin Sportpark (495): Freiheitsweg 18\, 13407 Berlin
CATEGORIES:Saison 2024/25
END:VEVENT
BEGIN:VEVENT
DTSTAMP:20260425T150922Z
DTSTART;TZID=Europe/Berlin:20250302T150000
DTEND;TZID=Europe/Berlin:20250302T163000
SUMMARY:LLB F HC Pankow vs Berliner TSC II (235062)
UID:30951f51-b603-4dfa-b0c7-5d28fc674285
STATUS:CONFIRMED
LAST-MODIFIED:20250302T173303Z
DESCRIPTION:Landesliga Frauen B\nBegegnungs-Nr: 235062\nHeim: HC Pankow\nGast: Berliner TSC II\nHalle: Sporthalle Grundschule im Panketal (802)\nAdresse: Achillesstraße 31\, 13125 Berlin\n
LOCATION:Sporthalle Grundschule im Panketal (802): Achillesstraße 31\, 13125 Berlin
CATEGORIES:Saison 2024/25
END:VEVENT
BEGIN:VEVENT
DTSTAMP:20260425T150922Z
DTSTART;TZID=Europe/Berlin:20250118T153000
DTEND;TZID=Europe/Berlin:20250118T170000
SUMMARY:LLB F HSG Neukölln II vs Berliner TSC II (235055)
UID:460a93ce-b1cc-4d7e-bf1c-4a66d87aa395
STATUS:CONFIRMED
LAST-MODIFIED:20250118T171731Z
DESCRIPTION:Landesliga Frauen B\nBegegnungs-Nr: 235055\nHeim: HSG Neukölln II\nGast: Berliner TSC II\nHalle: Sporthalle Hermann-Nohl-Grundschule (381)\nAdresse: Hannemannstr. 68\; Eingang Buschrosensteig 12\, 12347 Berlin\n
LOCATION:Sporthalle Hermann-Nohl-Grundschule (381): Hannemannstr. 68\; Eingang Buschrosensteig 12\, 12347 Berlin
CATEGORIES:Saison 2024/25
END:VEVENT
BEGIN:VEVENT
DTSTAMP:20260425T150922Z
DTSTART;TZID=Europe/Berlin:20240915T110000
DTEND;TZID=Europe/Berlin:20240915T123000
SUMMARY:LLB F Pfeffersport II vs Berliner TSC II (235002)
UID:33662b82-f021-4125-b603-74514a30ed90
STATUS:CONFIRMED
LAST-MODIFIED:20240916T111124Z
DESCRIPTION:Landesliga Frauen B\nBegegnungs-Nr: 235002\nHeim: Pfeffersport II\nGast: Berliner TSC II\nHalle: Sporthalle Grundschule an der Marie (407)\nAdresse: Christburger Str. 7/ Eing. Winsstr. 49\, 10405 Berlin\n
LOCATION:Sporthalle Grundschule an der Marie (407): Christburger Str. 7/ Eing. Winsstr. 49\, 10405 Berlin
CATEGORIES:Saison 2024/25
END:VEVENT
BEGIN:VEVENT
DTSTAMP:20260425T150922Z
DTSTART;TZID=Europe/Berlin:20241207T141500
DTEND;TZID=Europe/Berlin:20241207T154500
SUMMARY:LLB F BTV 1850 II vs Berliner TSC II (235038)
UID:bf5c68c8-b503-4b15-81b1-d15c7c0f1184
STATUS:CONFIRMED
LAST-MODIFIED:20241207T160610Z
DESCRIPTION:Landesliga Frauen B\nBegegnungs-Nr: 235038\nHeim: BTV 1850 II\nGast: Berliner TSC II\nHalle: Flatow-Sporthalle  (203)\nAdresse: Vor dem Schlesischen Tor 1\, 10997 Berlin\n
LOCATION:Flatow-Sporthalle  (203): Vor dem Schlesischen Tor 1\, 10997 Berlin
CATEGORIES:Saison 2024/25
END:VEVENT
BEGIN:VEVENT
DTSTAMP:20260425T150922Z
DTSTART;TZID=Europe/Berlin:20241110T143000
DTEND;TZID=Europe/Berlin:20241110T160000
SUMMARY:LLB F TSV Marienfelde vs Berliner TSC II (235025)
UID:bf81d5e8-4757-45e7-a1bb-09e1149fc724
STATUS:CONFIRMED
LAST-MODIFIED:20241110T191122Z
DESCRIPTION:Landesliga Frauen B\nBegegnungs-Nr: 235025\nHeim: TSV Marienfelde\nGast: Berliner TSC II\nHalle: Sporthalle Baußnernweg  (640)\nAdresse: Baußnernweg 8\, 12279 Berlin\n
LOCATION:Sporthalle Baußnernweg  (640): Baußnernweg 8\, 12279 Berlin
CATEGORIES:Saison 2024/25
END:VEVENT
END:VCALENDAR
